BEGIN:VCALENDAR
VERSION:2.0
PRODID:-//PEWIN - ECPv6.15.20//NONSGML v1.0//EN
CALSCALE:GREGORIAN
METHOD:PUBLISH
X-WR-CALNAME:PEWIN
X-ORIGINAL-URL:http://www.pewin.org
X-WR-CALDESC:Events for PEWIN
REFRESH-INTERVAL;VALUE=DURATION:PT1H
X-Robots-Tag:noindex
X-PUBLISHED-TTL:PT1H
BEGIN:VTIMEZONE
TZID:America/Chicago
BEGIN:DAYLIGHT
TZOFFSETFROM:-0600
TZOFFSETTO:-0500
TZNAME:CDT
DTSTART:20250309T080000
END:DAYLIGHT
BEGIN:STANDARD
TZOFFSETFROM:-0500
TZOFFSETTO:-0600
TZNAME:CST
DTSTART:20251102T070000
END:STANDARD
BEGIN:DAYLIGHT
TZOFFSETFROM:-0600
TZOFFSETTO:-0500
TZNAME:CDT
DTSTART:20260308T080000
END:DAYLIGHT
BEGIN:STANDARD
TZOFFSETFROM:-0500
TZOFFSETTO:-0600
TZNAME:CST
DTSTART:20261101T070000
END:STANDARD
BEGIN:DAYLIGHT
TZOFFSETFROM:-0600
TZOFFSETTO:-0500
TZNAME:CDT
DTSTART:20270314T080000
END:DAYLIGHT
BEGIN:STANDARD
TZOFFSETFROM:-0500
TZOFFSETTO:-0600
TZNAME:CST
DTSTART:20271107T070000
END:STANDARD
END:VTIMEZONE
BEGIN:VTIMEZONE
TZID:Europe/Paris
BEGIN:DAYLIGHT
TZOFFSETFROM:+0100
TZOFFSETTO:+0200
TZNAME:CEST
DTSTART:20250330T010000
END:DAYLIGHT
BEGIN:STANDARD
TZOFFSETFROM:+0200
TZOFFSETTO:+0100
TZNAME:CET
DTSTART:20251026T010000
END:STANDARD
BEGIN:DAYLIGHT
TZOFFSETFROM:+0100
TZOFFSETTO:+0200
TZNAME:CEST
DTSTART:20260329T010000
END:DAYLIGHT
BEGIN:STANDARD
TZOFFSETFROM:+0200
TZOFFSETTO:+0100
TZNAME:CET
DTSTART:20261025T010000
END:STANDARD
BEGIN:DAYLIGHT
TZOFFSETFROM:+0100
TZOFFSETTO:+0200
TZNAME:CEST
DTSTART:20270328T010000
END:DAYLIGHT
BEGIN:STANDARD
TZOFFSETFROM:+0200
TZOFFSETTO:+0100
TZNAME:CET
DTSTART:20271031T010000
END:STANDARD
END:VTIMEZONE
BEGIN:VEVENT
DTSTART;TZID=America/Chicago:20260129T170000
DTEND;TZID=America/Chicago:20260129T200000
DTSTAMP:20260423T104908
CREATED:20251217T215321Z
LAST-MODIFIED:20260129T082126Z
UID:10000275-1769706000-1769716800@www.pewin.org
SUMMARY:Jan 29 – PEWIN Texas (Austin) – New Year Wellness Celebration
DESCRIPTION:PEWIN Texas is pleased to invite you to an inspiring New Year Wellness Celebration focused on women’s health. The evening will feature light bites and drinks\, and a special session led by Dr. Connie Lehman\, a world-renowned diagnostic radiologist who will share her expertise on breast health\, prevention\, and emerging tools to better understand breast cancer risk. \nWhen\nJanuary 29\, 2026\n5:00 pm – 8:00 pm CT \nWhere\nKirkland & Ellis Austin Office\, 401 W 4th St\, Austin\, TX 78701 \nEvent Schedule\n5:00 PM – Welcome Cocktail Reception\n5:45 PM – 6:15 PM – Session with Dr. Connie Lehman\n6:15 PM – 8:00 PM – Cocktail Reception Continues \nAbout Dr. Connie Lehman\nDr. Connie Lehman is Professor of Radiology at Harvard Medical School\, Breast Imaging Specialist at Massachusetts General Hospital\, and Founder of Clairity\, a company using AI to transform breast cancer screening and risk prediction worldwide. A leading expert in breast imaging\, she has authored over 300 peer-reviewed publications and developed deep learning models that uncover risk patterns invisible to the human eye. Recognized by Forbes as one of its 50 Over 50 Innovators\, Dr. Lehman earned her MD and PhD from Yale University\, graduated Phi Beta Kappa from Duke University\, and holds an honorary medical degree from Harvard Medical School. \nThanks to Kirkland & Ellis for the generous support of this event!\n \nQuestions? Please contact Diane Brouillard at diane.brouillard@sante.com.
URL:http://www.pewin.org/event/jan-29-pewin-texas-new-year-wellness-celebration/
LOCATION:Kirkland & Ellis Austin\, 401 W 4th St\, Austin\, TX\, 78701\, United States
CATEGORIES:PEWIN Event
ATTACH;FMTTYPE=image/png:http://www.pewin.org/wp-content/uploads/2024/10/8-p6GMRK.tmp_.png
END:VEVENT
BEGIN:VEVENT
DTSTART;TZID=Europe/Paris:20260129T184500
DTEND;TZID=Europe/Paris:20260129T203000
DTSTAMP:20260423T104908
CREATED:20251203T192247Z
LAST-MODIFIED:20260129T082126Z
UID:10000271-1769712300-1769718600@www.pewin.org
SUMMARY:Jan 29 | Paris – PEWIN Paris – 2026 Geopolitical and Macroeconomic Outlook
DESCRIPTION:In 2025\, the world witnessed pivotal events that shaped global dynamics. From major geopolitical shifts to economic policies that redefined international trade\, these occurrences have set the stage for a transformative year ahead. \nWe are delighted to invite you for the second year running to join PEWIN and our panel of experts for an evening of engaging discussions and thought provoking insights as we dive into the implications of how these shifts will impact the world’s economies\, financial markets\, and overall environment for conducting business. \nOur time together aims to help our participants decipher the opportunities and challenges of the coming year so that they may formulate their investment strategies accordingly. There will be ample networking time after our formal program to share thoughts amongst us. \nThursday\, 29 January 2026\n18h45 Start\, 19h15 Panel\, 20h Cocktails \nPanelists:\nSylvie Bermann\, Former ambassador to UK\, China\, and Russia\, Member of the Board of Directors of the Jacques Delors Institute\nLaurence Boone\, Head of Santander France’s corporate and investment banking division\, former Secretary of State for European Affairs\nLaure de Roucy-Rochegonde\, Director of the Geopolitical Center for Technology of Ifri\nThe conference will be moderated by Daniela Ordonez\, Senior Economist at Ardian \nThe event will take place at Ardian’s Office\, 9 Place Vendôme\, 75001 Paris \nThank you to our generous host! \n \nWe hope to see you!\nNote: This event will be presented in French. \nPlease RSVP by Thursday\, 15 January 2026\nQuestions can be directed to PEWIN Paris Chapter Lead Alona Ponomareva at aponomareva@worldbank.org
URL:http://www.pewin.org/event/jan-29-paris-pewin-paris-2026-geopolitical-and-macroeconomic-outlook/
LOCATION:Ardian’s Office Paris\, 9 Place Vendôme\, Paris\, 75001\, France
CATEGORIES:PEWIN Event
ATTACH;FMTTYPE=image/png:http://www.pewin.org/wp-content/uploads/2023/12/PEWIN_Website_EventThumbnails_Emerald2-1sGWYo.tmp_.png
END:VEVENT
END:VCALENDAR