BEGIN:VCALENDAR
VERSION:2.0
PRODID:-//PEWIN - ECPv6.15.20//NONSGML v1.0//EN
CALSCALE:GREGORIAN
METHOD:PUBLISH
X-WR-CALNAME:PEWIN
X-ORIGINAL-URL:http://www.pewin.org
X-WR-CALDESC:Events for PEWIN
REFRESH-INTERVAL;VALUE=DURATION:PT1H
X-Robots-Tag:noindex
X-PUBLISHED-TTL:PT1H
BEGIN:VTIMEZONE
TZID:America/New_York
BEGIN:DAYLIGHT
TZOFFSETFROM:-0500
TZOFFSETTO:-0400
TZNAME:EDT
DTSTART:20250309T070000
END:DAYLIGHT
BEGIN:STANDARD
TZOFFSETFROM:-0400
TZOFFSETTO:-0500
TZNAME:EST
DTSTART:20251102T060000
END:STANDARD
BEGIN:DAYLIGHT
TZOFFSETFROM:-0500
TZOFFSETTO:-0400
TZNAME:EDT
DTSTART:20260308T070000
END:DAYLIGHT
BEGIN:STANDARD
TZOFFSETFROM:-0400
TZOFFSETTO:-0500
TZNAME:EST
DTSTART:20261101T060000
END:STANDARD
BEGIN:DAYLIGHT
TZOFFSETFROM:-0500
TZOFFSETTO:-0400
TZNAME:EDT
DTSTART:20270314T070000
END:DAYLIGHT
BEGIN:STANDARD
TZOFFSETFROM:-0400
TZOFFSETTO:-0500
TZNAME:EST
DTSTART:20271107T060000
END:STANDARD
END:VTIMEZONE
BEGIN:VEVENT
DTSTART;TZID=America/New_York:20260224T173000
DTEND;TZID=America/New_York:20260224T193000
DTSTAMP:20260421T082042
CREATED:20251217T215322Z
LAST-MODIFIED:20260224T123751Z
UID:10000277-1771954200-1771961400@www.pewin.org
SUMMARY:Feb 24 | PEWIN Allocator’s Exchange @ iConnections Miami
DESCRIPTION:PEWIN cordially invites you to cocktails and canapés at our inaugural Allocator’s Exchange being held during iConnections Global Alts Summit in Miami. Hosted at the offices of I Squared Capital\, one of the world’s leading infrastructure investors based in Miami\, our members will gather for an evening of discussions and thought-provoking insights into the private markets with our panel of leading LP experts with ample networking time before and after our formal program. \n** You do not have to be registered for the Global Alts conference to join the event.** \nOpening Remarks by Gautam Bhandari\, Co-Founder\, Managing Partner\, Global Chief Investment Officer\, I Squared Capital. Our panel of allocator leaders include: \n\nLisa Cawley\, Managing Director\, Screendoor\nJudy Chambers\, Managing Principal\, Meketa Investment Group\nGeeta M. Kapadia\, CFA\, Vice President and Chief Investment Officer \, Fordham University\nMichelle McKinnon\, Senior Portfolio Manager\, Alternative Investments\, Loews Corporation\nDhvani Shah\, CIO of Third Lake Capital\n\nDate: Tuesday\, 24 February 2026\nVenue: I Squared Capital\, 600 Brickell Ave Penthouse\, Miami\, FL 33131\nTime: 5:30-7:30pm\n4:30 Transportation Pickup from Miami Convention Center\n5:30 Reception (Cocktails and Hors d’oeuvres)\n6:00 Panel\n7:00 Networking\n7:45 Transportation back to Miami Beach \nTransportation to the Allocator’s Exchange from the convention center will be available for those who wish to take advantage of it\, leaving at 4:30pm. Return transportation will depart at 7:45pm and take participants back to Miami Beach. \nCost: Complimentary for LPs; $75 for all others \nThank you to our generous host! \n \nRSVP Deadline: February 14\, 2026 \nQuestions? Please reach out to Lisa Schuetz at lisaschuetz@pewin.org.
URL:http://www.pewin.org/event/feb-24-pewin-allocators-exchange-iconnections-miami/
LOCATION:I Squared Capital\, 600 Brickell Ave\, Penthouse\, Miami\, FL\, 33131\, United States
CATEGORIES:PEWIN Event
ATTACH;FMTTYPE=image/png:http://www.pewin.org/wp-content/uploads/2024/10/10-m5zszf.tmp_.png
END:VEVENT
END:VCALENDAR