BEGIN:VCALENDAR
VERSION:2.0
PRODID:-//PEWIN - ECPv6.15.20//NONSGML v1.0//EN
CALSCALE:GREGORIAN
METHOD:PUBLISH
X-ORIGINAL-URL:http://www.pewin.org
X-WR-CALDESC:Events for PEWIN
REFRESH-INTERVAL;VALUE=DURATION:PT1H
X-Robots-Tag:noindex
X-PUBLISHED-TTL:PT1H
BEGIN:VTIMEZONE
TZID:America/Chicago
BEGIN:DAYLIGHT
TZOFFSETFROM:-0600
TZOFFSETTO:-0500
TZNAME:CDT
DTSTART:20250309T080000
END:DAYLIGHT
BEGIN:STANDARD
TZOFFSETFROM:-0500
TZOFFSETTO:-0600
TZNAME:CST
DTSTART:20251102T070000
END:STANDARD
BEGIN:DAYLIGHT
TZOFFSETFROM:-0600
TZOFFSETTO:-0500
TZNAME:CDT
DTSTART:20260308T080000
END:DAYLIGHT
BEGIN:STANDARD
TZOFFSETFROM:-0500
TZOFFSETTO:-0600
TZNAME:CST
DTSTART:20261101T070000
END:STANDARD
BEGIN:DAYLIGHT
TZOFFSETFROM:-0600
TZOFFSETTO:-0500
TZNAME:CDT
DTSTART:20270314T080000
END:DAYLIGHT
BEGIN:STANDARD
TZOFFSETFROM:-0500
TZOFFSETTO:-0600
TZNAME:CST
DTSTART:20271107T070000
END:STANDARD
END:VTIMEZONE
BEGIN:VEVENT
DTSTART;TZID=America/Chicago:20260414T073000
DTEND;TZID=America/Chicago:20260414T090000
DTSTAMP:20260421T112541
CREATED:20260305T173549Z
LAST-MODIFIED:20260319T192356Z
UID:10000292-1776151800-1776157200@www.pewin.org
SUMMARY:April 14 – PEWIN Texas (Dallas): Breakfast to Kickoff McGuireWoods Conference
DESCRIPTION:Please join us as we kick off McGuireWoods Conference week with energy\, connection\, and community. \nIf you’re in town for the conference or meetings\, we can’t think of a better way to start your Tuesday than with a power breakfast hosted by the PEWIN Texas Chapter and Braemont Capital. \nIt’s a chance to reconnect with familiar faces\, meet fellow members\, and set the tone for a strong week ahead. \nYou do not need to be registered for the conference to attend — we hope you’ll join us. \nPlease RSVP to let us know if you’ll be there. We can’t wait to see you bright and early. \nDate: Tuesday\, April 14\, 2026\nVenue: Hotel Crescent Court – The Garden Room\n400 Crescent Ct\, Dallas\, TX 75201\nTime: 7:30 – 9:00 am\nCost: Complimentary\nPlease RSVP by April 1st \nThank you to our generous sponsor\, Braemont Capital! \n \nQuestions can be directed to Lindsay Grider at lgrider@braemont.com | Diana Murakhovskaya at diana@theartemisfund.com. \n* When attending PEWIN events\, photography may take place throughout the program.
URL:http://www.pewin.org/event/april-14-pewin-texas-dallas-breakfast-to-kickoff-mcguirewoods-conference/
LOCATION:Hotel Crescent Court – The Garden Room\, 400 Crescent Ct.\, 75201\, United States
CATEGORIES:PEWIN Event
ATTACH;FMTTYPE=image/png:http://www.pewin.org/wp-content/uploads/2024/10/8-p6GMRK.tmp_.png
END:VEVENT
END:VCALENDAR