BEGIN:VCALENDAR
VERSION:2.0
PRODID:-//PEWIN - ECPv6.15.20//NONSGML v1.0//EN
CALSCALE:GREGORIAN
METHOD:PUBLISH
X-ORIGINAL-URL:http://www.pewin.org
X-WR-CALDESC:Events for PEWIN
REFRESH-INTERVAL;VALUE=DURATION:PT1H
X-Robots-Tag:noindex
X-PUBLISHED-TTL:PT1H
BEGIN:VTIMEZONE
TZID:America/Chicago
BEGIN:DAYLIGHT
TZOFFSETFROM:-0600
TZOFFSETTO:-0500
TZNAME:CDT
DTSTART:20250309T080000
END:DAYLIGHT
BEGIN:STANDARD
TZOFFSETFROM:-0500
TZOFFSETTO:-0600
TZNAME:CST
DTSTART:20251102T070000
END:STANDARD
BEGIN:DAYLIGHT
TZOFFSETFROM:-0600
TZOFFSETTO:-0500
TZNAME:CDT
DTSTART:20260308T080000
END:DAYLIGHT
BEGIN:STANDARD
TZOFFSETFROM:-0500
TZOFFSETTO:-0600
TZNAME:CST
DTSTART:20261101T070000
END:STANDARD
BEGIN:DAYLIGHT
TZOFFSETFROM:-0600
TZOFFSETTO:-0500
TZNAME:CDT
DTSTART:20270314T080000
END:DAYLIGHT
BEGIN:STANDARD
TZOFFSETFROM:-0500
TZOFFSETTO:-0600
TZNAME:CST
DTSTART:20271107T070000
END:STANDARD
END:VTIMEZONE
BEGIN:VTIMEZONE
TZID:Asia/Singapore
BEGIN:STANDARD
TZOFFSETFROM:+0800
TZOFFSETTO:+0800
TZNAME:+08
DTSTART:20250101T000000
END:STANDARD
END:VTIMEZONE
BEGIN:VTIMEZONE
TZID:America/New_York
BEGIN:DAYLIGHT
TZOFFSETFROM:-0500
TZOFFSETTO:-0400
TZNAME:EDT
DTSTART:20250309T070000
END:DAYLIGHT
BEGIN:STANDARD
TZOFFSETFROM:-0400
TZOFFSETTO:-0500
TZNAME:EST
DTSTART:20251102T060000
END:STANDARD
BEGIN:DAYLIGHT
TZOFFSETFROM:-0500
TZOFFSETTO:-0400
TZNAME:EDT
DTSTART:20260308T070000
END:DAYLIGHT
BEGIN:STANDARD
TZOFFSETFROM:-0400
TZOFFSETTO:-0500
TZNAME:EST
DTSTART:20261101T060000
END:STANDARD
BEGIN:DAYLIGHT
TZOFFSETFROM:-0500
TZOFFSETTO:-0400
TZNAME:EDT
DTSTART:20270314T070000
END:DAYLIGHT
BEGIN:STANDARD
TZOFFSETFROM:-0400
TZOFFSETTO:-0500
TZNAME:EST
DTSTART:20271107T060000
END:STANDARD
END:VTIMEZONE
BEGIN:VTIMEZONE
TZID:America/Phoenix
BEGIN:STANDARD
TZOFFSETFROM:-0700
TZOFFSETTO:-0700
TZNAME:MST
DTSTART:20250101T000000
END:STANDARD
END:VTIMEZONE
BEGIN:VTIMEZONE
TZID:Europe/London
BEGIN:DAYLIGHT
TZOFFSETFROM:+0000
TZOFFSETTO:+0100
TZNAME:BST
DTSTART:20250330T010000
END:DAYLIGHT
BEGIN:STANDARD
TZOFFSETFROM:+0100
TZOFFSETTO:+0000
TZNAME:GMT
DTSTART:20251026T010000
END:STANDARD
BEGIN:DAYLIGHT
TZOFFSETFROM:+0000
TZOFFSETTO:+0100
TZNAME:BST
DTSTART:20260329T010000
END:DAYLIGHT
BEGIN:STANDARD
TZOFFSETFROM:+0100
TZOFFSETTO:+0000
TZNAME:GMT
DTSTART:20261025T010000
END:STANDARD
BEGIN:DAYLIGHT
TZOFFSETFROM:+0000
TZOFFSETTO:+0100
TZNAME:BST
DTSTART:20270328T010000
END:DAYLIGHT
BEGIN:STANDARD
TZOFFSETFROM:+0100
TZOFFSETTO:+0000
TZNAME:GMT
DTSTART:20271031T010000
END:STANDARD
END:VTIMEZONE
BEGIN:VEVENT
DTSTART;TZID=America/Chicago:20260302T160000
DTEND;TZID=America/Chicago:20260302T180000
DTSTAMP:20260421T064720
CREATED:20260215T105351Z
LAST-MODIFIED:20260302T172030Z
UID:10000287-1772467200-1772474400@www.pewin.org
SUMMARY:March 2 – PEWIN Texas (Dallas) | Building What Lasts: A Conversation with Anne Raymond
DESCRIPTION:PEWIN Texas invites you to join an exclusive interview with Anne Raymond\, real estate\, family office development\, and investment industry trailblazer. With several decades spent within the Crow Holdings and affiliated organizations\, Anne helped shape the firm’s investment strategy\, steward multi-generational family capital\, and build platforms that continue to drive long-term performance. Lindsay Grider\, Partner and Head of Capital Partnerships at Braemont Capital\, will lead the interview to discuss insights on stewardship\, decision-making\, and building resilient institutions. \nBuilding What Lasts: A Conversation with Anne Raymond \nDate: Monday\, March 2\, 2026\nVenue: The Pavilion at Old Parkland\n3819 Maple Avenue\, Dallas\, TX 75219\nTime: 4:00 pm – 6:00 pm CT\nCost: Complimentary \nThank you\, Braemont Capital\, for the generous support of this event! \n \nQuestions can be directed to Diana Murakhovskaya at diana@theartemisfund.com \nMore about Anne Raymond \nAnne Raymond has had a 35-year career in real estate finance and investment management. From 2000 to 2017\, she held senior leadership positions and served on the firmwide Investment Committees at Crow Holdings – a privately-owned real estate investment and development firm with a 70-year history and proven track record of performance. She retired in 2017 as President of Crow Holdings Capital\, a Registered Investment Advisor managing capital on behalf of global investors in private equity real estate funds and diversified investment portfolios on behalf of ultra-high-net-worth families. In addition\, from 2000 to 2017\, she was Managing Director of Crow Family Holdings – owner of national development companies Trammell Crow Residential and Crow Holdings Industrial. Prior to her tenure at Crow Holdings\, from 1995 to 1998\, she served as Executive Vice President and Chief Financial Officer at Wyndham International\, Inc.\, an upscale and luxury hotel and resort company – leading its initial public offering in 1996. Anne served as the Managing Director for Crow Holdings and was the President of Crow Holdings Capital (CHC) and was a member of the Investment Committee for both CHC–Real Estate and CHC–Investment Partners. \nAnne currently serves on the Board of Directors for Crow Holdings\, Trammell Crow Residential\, the National Council of the American Enterprise Institute\, Lone Star Big Brothers Big Sisters\, Teach for America DFW and StepStone Group (NASDAQ: STEP). Anne received a bachelor’s degree in business administration from the University of Missouri. \n  \n* When attending PEWIN events\, photography may take place throughout the program.
URL:http://www.pewin.org/event/march-2-pewin-texas-dallas-building-what-lasts-a-conversation-with-anne-raymond/
LOCATION:The Pavilion at Old Parkland\, 3819 Maple Avenue\, Dallas\, TX\, 75219\, United States
CATEGORIES:PEWIN Event
ATTACH;FMTTYPE=image/png:http://www.pewin.org/wp-content/uploads/2024/10/8-p6GMRK.tmp_.png
END:VEVENT
BEGIN:VEVENT
DTSTART;TZID=Asia/Singapore:20260305T180000
DTEND;TZID=Asia/Singapore:20260305T200000
DTSTAMP:20260421T064720
CREATED:20260122T072121Z
LAST-MODIFIED:20260305T173547Z
UID:10000281-1772733600-1772740800@www.pewin.org
SUMMARY:March 5 – PEWIN Singapore – Pickleball Social
DESCRIPTION:We look forward to gathering our PEWIN community in Singapore for a fun and active evening of pickleball — a relaxed\, fun way to unwind\, get moving\, and connect with fellow members. \nWhat to Expect: \n\n30-45 minutes of clinic including basic strokes like dink\, drive\, volley and serves\n15 minutes explanation of rules of the game with guided game play\n1 hour of friendly matches/mini league guided by coach\n\nWhether you’re a seasoned player or simply looking for a fun and active way to connect\, we’d love to see you there. \nWhen\nThursday\, 5 March 2026\n6:00–8:00 PM \nWhere\n3rd Space @ Labrador\n65 Pasir Panjang Rd\, #01-00 ThirdSpace\, Singapore 118506 \nThank you to our generous sponsor!\n \nQuestions? Please contact Yen Li Chew at YChew@insightpartners.com \n  \n*When attending PEWIN events\, photography may take place throughout the program.
URL:http://www.pewin.org/event/march-5-pewin-singapore-pickleball-social/
LOCATION:3rd Space @ Labrador\, 65 Pasir Panjang Rd\, #01-00 ThirdSpace\, 118506\, Singapore
CATEGORIES:PEWIN Event
ATTACH;FMTTYPE=image/png:http://www.pewin.org/wp-content/uploads/2024/10/8-p6GMRK.tmp_.png
END:VEVENT
BEGIN:VEVENT
DTSTART;TZID=America/New_York:20260306T110000
DTEND;TZID=America/New_York:20260306T120000
DTSTAMP:20260421T064720
CREATED:20260225T165000Z
LAST-MODIFIED:20260306T173756Z
UID:10000289-1772794800-1772798400@www.pewin.org
SUMMARY:March 6 | Virtual – PEWIN LP-Only Conversation: Continuation Vehicles Market Update – Part II
DESCRIPTION:PEWIN hosts monthly LP-Only Peer-to-Peer conversations led by our members. These sessions will take place virtually every month\, creating a forum for you to connect\, exchange ideas\, and discuss topics central to your allocator’s work. \nDetails for our next session are as follows:\nDate: Friday\, March 6\, 2026\nTime: 11:00 am – 12:00 pm eastern U.S.\nZoom: Sign in provided to registered attendees\nDiscussion Leader: Sarah Favaro\, Managing Investment Director\, Mott Foundation \nContinuation Vehicles Market Update  -Part II\nJoin us for the March LP Peer-to-Peer session\, where we’ll continue to explore the current market outlook for continuation vehicles (CVs). \nWe are pleased to welcome Jennifer Choi and Genie Cesar-Fabian from ILPA\, who will share insights from ILPA’s work and broader LP engagement on continuation vehicles\, including governance considerations\, alignment dynamics\, and evolving market practices. \nThis session will be a fully integrated LP-only conversation\, offering space for candid discussion and peer exchange on practical implications\, best practices\, and what LPs are seeing in the current market environment. \n***  In order to keep the conversation robust and confidential\, you must be an active PEWIN member LP investing in institutional funds to participate.  This invitation is NOT transferable and we ask that no virtual assistants are activated by participants.*** \nQuestions? Please reach out to Moby Thomas (mobythomas@pewin.org)
URL:http://www.pewin.org/event/march-6-virtual-pewin-lp-only-conversation-continuation-vehicles-market-update-part-ii/
LOCATION:TX
CATEGORIES:PEWIN Event
ATTACH;FMTTYPE=image/png:http://www.pewin.org/wp-content/uploads/2024/03/PEWIN_Website_EventThumbnails_GoldW-Rd9Swv.tmp_.png
END:VEVENT
BEGIN:VEVENT
DTSTART;TZID=America/Phoenix:20260309T203000
DTEND;TZID=America/Phoenix:20260309T230000
DTSTAMP:20260421T064720
CREATED:20260206T090621Z
LAST-MODIFIED:20260309T175006Z
UID:10000286-1773088200-1773097200@www.pewin.org
SUMMARY:March 9 | Phoenix – PEWIN Pajama Party – Women’s Private Equity Summit
DESCRIPTION:PEWIN Pajama Party\n\nWe’re excited to continue a beloved PEWIN tradition with our late-night Pajama Party at the Women’s Private Equity Summit in Arizona—exclusively for PEWIN members! \nGet comfy! Slip into your pajamas\, sweats\, or hotel bathrobe\, throw your hair up\, and join us for drinks\, snacks\, and relaxed conversation with friends old and new. \nMonday\, March 9\, 2026\n8:30 – 11:00 pm\nLocation: Cottages at the Arizona Biltmore\nExact location provided to those registered prior to the evening. \nThis invitation is exclusively available to PEWIN members who are registered to attend the full 2026 Women’s Private Equity Summit. If you haven’t secured your Summit ticket yet\, please do so here. \nA special thank you to With Intelligence for their generous support in making this unique event possible! \nQuestions? Please contact Emily Mendell at emilymendell@pewin.org \nSORRY\, WE HAVE REACHED CAPACITY\, please email us at support@pewin.org to join the waitlist\, we will be reconfirming attendance and open up available spots soon.
URL:http://www.pewin.org/event/march-9-phoenix-pewin-pajama-party-womens-private-equity-summit/
LOCATION:Cottages at the Arizona Biltmore – Exact location provided to those registered prior to the evening.
CATEGORIES:PEWIN Event
ATTACH;FMTTYPE=image/png:http://www.pewin.org/wp-content/uploads/2024/10/8-p6GMRK.tmp_.png
END:VEVENT
BEGIN:VEVENT
DTSTART;TZID=Europe/London:20260318T083000
DTEND;TZID=Europe/London:20260318T103000
DTSTAMP:20260421T064720
CREATED:20260215T105352Z
LAST-MODIFIED:20260317T190840Z
UID:10000288-1773822600-1773829800@www.pewin.org
SUMMARY:March 18 – PEWIN London Allocator’s Exchange
DESCRIPTION:PEWIN London cordially invites you to an Allocator’s Exchange Breakfast on March 18\, 2026. Hosted at the offices of Mubadala Capital\, our members will gather for a morning of discussions and thought-provoking insights into the private markets with our panel of leading LP experts with ample networking time before and after our formal program. \nThe discussion will be moderated by Yoon Lee\, Partner\, Investor Relations at Summit Partners\, who supports the firm’s relationships with its Limited Partners in Europe\, Middle East and Asia. Our panel of allocator leaders include: \nCyndi Mosquera\, Director – Head of Europe Private Equity\, MetLife Investment Management\nYvonne O’Mara\, Deputy Managing Director\, IH International\nImogen Richards\, Partner and Head of European Private Equity Primaries\, Pantheon \nDate: Wednesday\, March 18\, 2026\nTime: 8:30 – 10:30 AM\nBreakfast Provided\nVenue: Mubadala Capital\n25 Berkeley Square\, 7th Floor\nLondon\, W1J 6HN\, UK \nFee: Complimentary \nThank you to our Event Sponsor\, Mubadala Capital! \n \nQuestions can be directed to Yoon Lee (ylee@summitpartners.com) or Anna Ferguson at (anna.ferguson@clearlake.com) \nSORRY\, WE HAVE REACHED CAPACITY\, please email us at support@pewin.org to join the waitlist\, we will be reconfirming attendance and open up available spots soon. \n* When attending PEWIN events\, photography may take place throughout the program.
URL:http://www.pewin.org/event/march-18-pewin-london-allocators-exchange/
LOCATION:Mubadala Capital\, 25 Berkeley Square\, 7th Floor\, London\, England\, W1J 6HN\, United Kingdom
CATEGORIES:PEWIN Event
ATTACH;FMTTYPE=image/png:http://www.pewin.org/wp-content/uploads/2024/10/8-p6GMRK.tmp_.png
END:VEVENT
END:VCALENDAR